BEGIN:VCALENDAR
VERSION:2.0
PRODID:-//Friends Club//Events//CZ
CALSCALE:GREGORIAN
METHOD:PUBLISH
BEGIN:VEVENT
UID:event-45-20260502220000@friendsclub.cz
DTSTAMP:20260425T141920Z
DTSTART:20260502T200000Z
DTEND:20260503T040000Z
SUMMARY:🌊 IBIZA PARTY NIGHT 🌊
DESCRIPTION:🌊 IBIZA PARTY NIGHT — 2. 5. 2026 | FRIENDS CLUB Připrav se na nejžhavější noc léta! Přivezeme atmosféru Ibizy přímo do srdce Prahy. Letní dekorace\, beach vibes a energie\, která tě nepustí domů. 🏆 Soutěže s free drinky jako odměnou 🌴 Letní dekorace — beach atmosféra zaručena 🌊 Celá noc plná zábavy v srdci Prahy 📍 Friends Club\, Praha 1 📅 2. května 2026\n\n/program/2026-05-02-ibiza-party-night
URL:/program/2026-05-02-ibiza-party-night
END:VEVENT
END:VCALENDAR
