BEGIN:VCALENDAR
VERSION:2.0
PRODID:-//Friends Club//Events//CZ
CALSCALE:GREGORIAN
METHOD:PUBLISH
BEGIN:VEVENT
UID:event-41-20260429220000@friendsclub.cz
DTSTAMP:20260425T153908Z
DTSTART:20260429T200000Z
DTEND:20260430T040000Z
SUMMARY:Connection party by Smokee Kween
DESCRIPTION:💫 Connection Party Tahle noc nebude o náhodách — ale o jiskrách\, co přeskočí\, když se díváš správným směrem. Přijď\, dej si drink\, rozhýbej boky a nech se vtáhnout do energie\, která spojuje. 🔥 💋 Color code vibe: ❤️ Red – off the market\, just here to shine 🧡 Orange – let’s see where the night goes 💚 Green – free spirit\, ready to mingle Kimberly Voyage ti otevře brány do světa\, kde flirt je jazyk\, tanec je terapie a každá noc má svůj příběh. 🪩✨ 🎧 DJs\, sexy beats\, a dancefloor\, který se nezastaví až do rána. 💃 Drinks\, smích\, nečekané spojení — všechno\, co dělá noc nezapomenutelnou.\n\n/program/2026-04-29-connection-party-by-smokee-kween
URL:/program/2026-04-29-connection-party-by-smokee-kween
END:VEVENT
END:VCALENDAR
