BEGIN:VCALENDAR
VERSION:2.0
PRODID:-//Friends Club//Events//CZ
CALSCALE:GREGORIAN
METHOD:PUBLISH
BEGIN:VEVENT
UID:event-38-20260426210000@friendsclub.cz
DTSTAMP:20260425T153907Z
DTSTART:20260426T190000Z
DTEND:20260427T020000Z
SUMMARY:Afterlife society
DESCRIPTION:AFTERLIFE SOCIETY Friends\, jak ho neznáš. Temnější vibe\, hypnotická hudba a atmosféra\, která tě vtáhne do jiného světa. Afterlife Society mění tvář klubu — očekávej jiný zvuk\, jinou energii a úplně jiný zážitek než klasické nights ve Friends. Tahle noc je pro ty\, kdo chtějí jít hlouběji. 📅 Každou čtvrtou neděli v měsíci 🖤 Jednou měsíčně 🎶 Melodic techno / techno vibes Přijď připraven na změnu. This is not your regular Friends.\n\n/program/2026-04-26-afterlife-society
URL:/program/2026-04-26-afterlife-society
END:VEVENT
END:VCALENDAR
