BEGIN:VCALENDAR
VERSION:2.0
PRODID:-//Friends Club//Events//CZ
CALSCALE:GREGORIAN
METHOD:PUBLISH
BEGIN:VEVENT
UID:event-42-20260430220000@friendsclub.cz
DTSTAMP:20260425T154836Z
DTSTART:20260430T200000Z
DTEND:20260501T040000Z
SUMMARY:Drag/Travesti show by Lavri Gina\, Cassiopeia
DESCRIPTION:✨ DRAG / TRAVESTI SHOW @ Friends Club ✨ Připrav se na noc plnou show\, humoru a neuvěřitelné energie. Naše drag queens přinášejí vystoupení\, která tě nenechají sedět – čekej lipsync\, tanec\, extravagantní kostýmy a momenty\, na které se nezapomíná. 💄 Ikonické looky 🎤 Live performance & lipsync 🔥 Atmosféra\, která tě vtáhne 🍸 Drinky\, co potečou celou noc Po show jedeme dál – DJs převezmou parket a party pokračuje až do rána. 👉 Přijď zažít večer\, kde je všechno víc – víc stylu\, víc zábavy\, víc Friends.\n\n/en/events/2026-04-30-drag-travesti-show-by-lavri-gina-cassiopeia
URL:/en/events/2026-04-30-drag-travesti-show-by-lavri-gina-cassiopeia
END:VEVENT
END:VCALENDAR
