BEGIN:VCALENDAR
VERSION:2.0
PRODID:-//Friends Club//Events//CZ
CALSCALE:GREGORIAN
METHOD:PUBLISH
BEGIN:VEVENT
UID:event-40-20260428220000@friendsclub.cz
DTSTAMP:20260425T170330Z
DTSTART:20260428T200000Z
DTEND:20260429T040000Z
SUMMARY:Karaoke Night
DESCRIPTION:🎶 TUNE YOUR VOICE\, BECAUSE TUESDAY IS KARAOKE! 🎶 Come sing your favorite hits\, whether you're a star or just looking for fun with friends. Great atmosphere\, fun until the night and great show. Don't forget to bring your good mood with you! We look forward to seeing you! 🥳 📍 Friends Club\, Bartolomejská 11\, Prague 1 📅 Every Tuesday from 10 PM till late 👉 Follow us: @friendsprague\n\n/en/events/2026-04-28-karaoke-night
URL:/en/events/2026-04-28-karaoke-night
END:VEVENT
END:VCALENDAR
