BEGIN:VCALENDAR
VERSION:2.0
PRODID:-//Friends Club//Events//CZ
CALSCALE:GREGORIAN
METHOD:PUBLISH
BEGIN:VEVENT
UID:event-39-20260427210000@friendsclub.cz
DTSTAMP:20260425T170340Z
DTSTART:20260427T190000Z
DTEND:20260428T020000Z
SUMMARY:Friends underground
DESCRIPTION:FRIENDS UNDERGROUND When Friends drops into the underground. Rawer sound\, more club-like energy\, and a night for true electronic music lovers. Friends Underground brings a completely different feeling than regular nights — expect a darker sound and an alternative atmosphere. 📅 Every last Monday of the month ⚡ Once a month 🎧 Tech house / underground beats If you want to experience Friends differently\, your night starts here.\n\n/en/events/2026-04-27-friends-underground
URL:/en/events/2026-04-27-friends-underground
END:VEVENT
END:VCALENDAR
